BEGIN:VCALENDAR
VERSION:2.0
PRODID:-//ehrenamtsagentur.de - ECPv6.15.17.1//NONSGML v1.0//EN
CALSCALE:GREGORIAN
METHOD:PUBLISH
X-WR-CALNAME:ehrenamtsagentur.de
X-ORIGINAL-URL:https://ehrenamtsagentur.de
X-WR-CALDESC:Veranstaltungen für ehrenamtsagentur.de
REFRESH-INTERVAL;VALUE=DURATION:PT1H
X-Robots-Tag:noindex
X-PUBLISHED-TTL:PT1H
BEGIN:VTIMEZONE
TZID:Europe/Berlin
BEGIN:DAYLIGHT
TZOFFSETFROM:+0100
TZOFFSETTO:+0200
TZNAME:CEST
DTSTART:20250330T010000
END:DAYLIGHT
BEGIN:STANDARD
TZOFFSETFROM:+0200
TZOFFSETTO:+0100
TZNAME:CET
DTSTART:20251026T010000
END:STANDARD
BEGIN:DAYLIGHT
TZOFFSETFROM:+0100
TZOFFSETTO:+0200
TZNAME:CEST
DTSTART:20260329T010000
END:DAYLIGHT
BEGIN:STANDARD
TZOFFSETFROM:+0200
TZOFFSETTO:+0100
TZNAME:CET
DTSTART:20261025T010000
END:STANDARD
BEGIN:DAYLIGHT
TZOFFSETFROM:+0100
TZOFFSETTO:+0200
TZNAME:CEST
DTSTART:20270328T010000
END:DAYLIGHT
BEGIN:STANDARD
TZOFFSETFROM:+0200
TZOFFSETTO:+0100
TZNAME:CET
DTSTART:20271031T010000
END:STANDARD
END:VTIMEZONE
BEGIN:VEVENT
DTSTART;VALUE=DATE:20260530
DTEND;VALUE=DATE:20260531
DTSTAMP:20260421T130632
CREATED:20251007T153534Z
LAST-MODIFIED:20260420T064110Z
UID:2793-1780099200-1780185599@ehrenamtsagentur.de
SUMMARY:Heldensamstag – 2026
DESCRIPTION:Am 30. Mai 2026 findet der 6. Heldensamstag statt. \nWir laden alle ein\, sich in einem der zahlreichen Projekten von gemeinnützigen Organisationen\, Vereine und Initiativen im Landkreis Cloppenburg für einen Tag ehrenamtlich zu engagieren. \nDer Tag bietet Ihnen die Gelegenheit\, in das Ehrenamt hinein zu schnuppern und den Verein\, die Organisation oder Institution unverbindlich kennen zu lernen. \nHier gelangen Sie direkt zu den Projekten und können sich dafür anmelden! \nZiel ist es\, einen Tag für das Ehrenamt gemeinsam zu erleben und das Ehrenamt am Abend mit allen gemeinsam in der großen Dankeschön-Party zu feiern. Wir freuen auf einen schönen Tag! \nFragen per E-Mail an info@ehrenamtsagentur.de oder telefonisch unter 04471 8504532.
URL:https://ehrenamtsagentur.de/veranstaltungen/heldensamstag-2026/
LOCATION:Cloppenburg\, Cloppenburg\, 49661
END:VEVENT
END:VCALENDAR